BEGIN:VCALENDAR
VERSION:2.0
PRODID:-//ALUS - ECPv4.9.6//NONSGML v1.0//EN
CALSCALE:GREGORIAN
METHOD:PUBLISH
X-WR-CALNAME:ALUS
X-ORIGINAL-URL:https://alus.lu
X-WR-CALDESC:Events for ALUS
BEGIN:VTIMEZONE
TZID:"Europe/Luxembourg"
BEGIN:DAYLIGHT
TZOFFSETFROM:+0100
TZOFFSETTO:+0200
TZNAME:CEST
DTSTART:20180325T010000
END:DAYLIGHT
BEGIN:STANDARD
TZOFFSETFROM:+0200
TZOFFSETTO:+0100
TZNAME:CET
DTSTART:20181028T010000
END:STANDARD
END:VTIMEZONE
BEGIN:VEVENT
DTSTART;TZID="Europe/Luxembourg":20180630T100000
DTEND;TZID="Europe/Luxembourg":20180630T210000
DTSTAMP:20190821T233922
CREATED:20180602T062307Z
LAST-MODIFIED:20180602T065458Z
UID:4190-1530352800-1530392400@alus.lu
SUMMARY:Summercup 2018
DESCRIPTION:\n \nAll Détailer iwert d’Event fannt dir hei. D’Umeldungen fir de Fussballtournoi lafen per Mail un d’Selina. \n Umeldung Beerpongtournoi\n\n\n
URL:https://alus.lu/event/summercup-2018
LOCATION:US Hostert Rameldange\, Football Club Hostert U.S.\, Rameldange\, 6991\, Luxembourg
ORGANIZER;CN="ALUS":MAILTO:contact@alus.lu
END:VEVENT
END:VCALENDAR